BEGIN:VCALENDAR
VERSION:2.0
PRODID:-//eventon.com NONSGML v1.0//EN
BEGIN:VEVENT
UID:69ecb40c7bb8d
DTSTAMP:20260425T143108
DTSTART:20260111T150000Z
DTEND:20260111T215000Z
LOCATION:TEATRO COMUNALE DI FALZÈ DI TREVIGNANO VIA GIACOMO PUCCINI 1
SUMMARY:IL BORGHESE GENTILUOMO
DESCRIPTION: Monsieur Jourdain ha un chiodo fisso: diventare un gentiluomo. Se non per nascita\,  essendo egli un facoltoso mercante\,  almeno per educazione e buone maniere. Per far questo si circonda di precettori dalle competenze piuttosto dubbie\,  veste in modo fin troppo sfarzoso\,  impegna i denari in prestiti ad amici – questi[..]
END:VEVENT
END:VCALENDAR